BEGIN:VCALENDAR
VERSION:2.0
PRODID:-//eventon.com NONSGML v1.0//EN
CALSCALE:GREGORIAN
METHOD:PUBLISH
BEGIN:VEVENT
UID:69e5e6f35ac49
DTSTAMP:20260420T084227Z
DTSTART:20170426T180000Z
DTEND:20170426T200000Z
LOCATION:
SUMMARY:The Rock- Youth Ministry
DESCRIPTION:Middle School &amp; High School Youth Ministry- at the Ministry
  House.\nhttps://tpcchurch.net/events/rock-youth-ministry/var/ri-1.l-L1
URL:https://tpcchurch.net/events/rock-youth-ministry/var/ri-1.l-L1
END:VEVENT
END:VCALENDAR